Package: methodical Version: 1.5.4 Maintainer: Richard Heery MaintainerEmail: richardheery at gmail.com git_url: https://git.bioconductor.org/packages/methodical git_branch: devel git_last_commit: dfeafbb git_last_commit_date: 2025-10-24 04:59:14 -0400 (Fri, 24 Oct 2025)