Package: methimpute Version: 1.31.0 Command: /home/biocbuild/bbs-3.22-bioc/R/bin/R CMD INSTALL methimpute StartedAt: 2025-10-24 15:26:16 -0400 (Fri, 24 Oct 2025) EndedAt: 2025-10-24 15:26:59 -0400 (Fri, 24 Oct 2025) EllapsedTime: 42.4 seconds RetCode: 0 Status: OK