Package: methInheritSim Version: 1.31.1 Command: /home/biocbuild/bbs-3.22-bioc/R/bin/R CMD check --install=check:methInheritSim.install-out.txt --library=/home/biocbuild/bbs-3.22-bioc/R/site-library --timings methInheritSim_1.31.1.tar.gz StartedAt: 2025-10-25 01:21:03 -0400 (Sat, 25 Oct 2025) EndedAt: 2025-10-25 01:26:43 -0400 (Sat, 25 Oct 2025) EllapsedTime: 340.3 seconds RetCode: 0 Status: OK CheckDir: methInheritSim.Rcheck Warnings: 0