Package: methInheritSim Version: 1.31.1 Command: /Library/Frameworks/R.framework/Resources/bin/R CMD INSTALL methInheritSim StartedAt: 2025-10-24 15:36:57 -0400 (Fri, 24 Oct 2025) EndedAt: 2025-10-24 15:37:47 -0400 (Fri, 24 Oct 2025) EllapsedTime: 50.6 seconds RetCode: 0 Status: OK