Package: methInheritSim Version: 1.31.1 Command: /Library/Frameworks/R.framework/Resources/bin/R CMD build --keep-empty-dirs --no-resave-data methInheritSim StartedAt: 2025-10-24 17:43:56 -0400 (Fri, 24 Oct 2025) EndedAt: 2025-10-24 17:45:12 -0400 (Fri, 24 Oct 2025) EllapsedTime: 76.4 seconds RetCode: 0 Status: OK PackageFile: methInheritSim_1.31.1.tar.gz PackageFileSize: 1.117 MiB