Package: methInheritSim Version: 1.31.1 Command: rm -rf methInheritSim.buildbin-libdir && mkdir methInheritSim.buildbin-libdir && /Users/biocbuild/BBS/utils/build-universal.sh methInheritSim_1.31.1.tar.gz /Library/Frameworks/R.framework/Resources/bin/R methInheritSim.buildbin-libdir StartedAt: 2025-10-25 01:48:58 -0400 (Sat, 25 Oct 2025) EndedAt: 2025-10-25 01:49:53 -0400 (Sat, 25 Oct 2025) EllapsedTime: 55.5 seconds RetCode: 0 Status: OK PackageFile: methInheritSim_1.31.1.tgz PackageFileSize: 719.7 KiB