Package: methInheritSim Version: 1.31.1 Command: rm -rf methInheritSim.buildbin-libdir && mkdir methInheritSim.buildbin-libdir && /Users/biocbuild/BBS/utils/build-universal.sh methInheritSim_1.31.1.tar.gz /Library/Frameworks/R.framework/Resources/bin/R methInheritSim.buildbin-libdir StartedAt: 2025-10-24 23:09:09 -0400 (Fri, 24 Oct 2025) EndedAt: 2025-10-24 23:09:25 -0400 (Fri, 24 Oct 2025) EllapsedTime: 16.3 seconds RetCode: 0 Status: OK PackageFile: methInheritSim_1.31.1.tgz PackageFileSize: 720.9 KiB