Package: metaseqR2 Version: 1.21.2 Command: /home/biocbuild/bbs-3.22-bioc/R/bin/R CMD INSTALL metaseqR2 StartedAt: 2025-10-24 16:03:39 -0400 (Fri, 24 Oct 2025) EndedAt: 2025-10-24 16:04:53 -0400 (Fri, 24 Oct 2025) EllapsedTime: 73.8 seconds RetCode: 0 Status: OK