Package: metaseqR2 Version: 1.21.2 Command: /home/biocbuild/bbs-3.22-bioc/R/bin/R CMD build --keep-empty-dirs --no-resave-data --md5 metaseqR2 StartedAt: 2025-10-24 18:43:49 -0400 (Fri, 24 Oct 2025) EndedAt: 2025-10-24 18:49:13 -0400 (Fri, 24 Oct 2025) EllapsedTime: 323.2 seconds RetCode: 0 Status: OK PackageFile: metaseqR2_1.21.2.tar.gz PackageFileSize: 2.681 MiB