Package: metapone Version: 1.16.0 Command: /home/biocbuild/bbs-3.22-bioc/R/bin/R CMD INSTALL metapone StartedAt: 2025-11-03 15:09:24 -0500 (Mon, 03 Nov 2025) EndedAt: 2025-11-03 15:09:46 -0500 (Mon, 03 Nov 2025) EllapsedTime: 22.0 seconds RetCode: 0 Status: OK