Package: metapone Version: 1.16.0 Command: /home/biocbuild/bbs-3.22-bioc/R/bin/R CMD build --keep-empty-dirs --no-resave-data --md5 metapone StartedAt: 2025-10-31 18:43:36 -0400 (Fri, 31 Oct 2025) EndedAt: 2025-10-31 18:52:44 -0400 (Fri, 31 Oct 2025) EllapsedTime: 547.4 seconds RetCode: 0 Status: OK PackageFile: metapone_1.16.0.tar.gz PackageFileSize: 3.746 MiB