Package: metabomxtr Version: 1.43.0 Command: /home/biocbuild/bbs-3.22-bioc/R/bin/R CMD check --install=check:metabomxtr.install-out.txt --library=/home/biocbuild/bbs-3.22-bioc/R/site-library --timings metabomxtr_1.43.0.tar.gz StartedAt: 2025-10-25 01:18:25 -0400 (Sat, 25 Oct 2025) EndedAt: 2025-10-25 01:20:08 -0400 (Sat, 25 Oct 2025) EllapsedTime: 103.2 seconds RetCode: 0 Status: OK CheckDir: metabomxtr.Rcheck Warnings: 0