Package: metabomxtr Version: 1.43.0 Command: rm -rf metabomxtr.buildbin-libdir && mkdir metabomxtr.buildbin-libdir && /Users/biocbuild/BBS/utils/build-universal.sh metabomxtr_1.43.0.tar.gz /Library/Frameworks/R.framework/Resources/bin/R metabomxtr.buildbin-libdir StartedAt: 2025-10-25 01:48:39 -0400 (Sat, 25 Oct 2025) EndedAt: 2025-10-25 01:48:58 -0400 (Sat, 25 Oct 2025) EllapsedTime: 18.5 seconds RetCode: 0 Status: OK PackageFile: metabomxtr_1.43.0.tgz PackageFileSize: 648.7 KiB