Package: metabolomicsWorkbenchR Version: 1.19.0 Command: /home/biocbuild/bbs-3.22-bioc/R/bin/R CMD build --keep-empty-dirs --no-resave-data --md5 metabolomicsWorkbenchR StartedAt: 2025-10-24 18:42:29 -0400 (Fri, 24 Oct 2025) EndedAt: 2025-10-24 18:43:17 -0400 (Fri, 24 Oct 2025) EllapsedTime: 48.0 seconds RetCode: 0 Status: OK PackageFile: metabolomicsWorkbenchR_1.19.0.tar.gz PackageFileSize: 2.396 MiB