Package: metabolomicsWorkbenchR Version: 1.20.0 Command: /Library/Frameworks/R.framework/Resources/bin/R CMD INSTALL metabolomicsWorkbenchR StartedAt: 2025-10-31 15:37:08 -0400 (Fri, 31 Oct 2025) EndedAt: 2025-10-31 15:37:50 -0400 (Fri, 31 Oct 2025) EllapsedTime: 41.3 seconds RetCode: 0 Status: OK