Package: metabolomicsWorkbenchR Version: 1.20.0 Command: /Library/Frameworks/R.framework/Resources/bin/R CMD build --keep-empty-dirs --no-resave-data metabolomicsWorkbenchR StartedAt: 2025-10-31 17:43:13 -0400 (Fri, 31 Oct 2025) EndedAt: 2025-10-31 17:44:10 -0400 (Fri, 31 Oct 2025) EllapsedTime: 57.3 seconds RetCode: 0 Status: OK PackageFile: metabolomicsWorkbenchR_1.20.0.tar.gz PackageFileSize: 2.398 MiB