Package: metabolomicsWorkbenchR Version: 1.20.0 Command: rm -rf metabolomicsWorkbenchR.buildbin-libdir && mkdir metabolomicsWorkbenchR.buildbin-libdir && /Users/biocbuild/BBS/utils/build-universal.sh metabolomicsWorkbenchR_1.20.0.tar.gz /Library/Frameworks/R.framework/Resources/bin/R metabolomicsWorkbenchR.buildbin-libdir StartedAt: 2025-11-01 01:42:30 -0400 (Sat, 01 Nov 2025) EndedAt: 2025-11-01 01:43:14 -0400 (Sat, 01 Nov 2025) EllapsedTime: 44.1 seconds RetCode: 0 Status: OK PackageFile: metabolomicsWorkbenchR_1.20.0.tgz PackageFileSize: 2.373 MiB