Package: metabolomicsWorkbenchR Version: 1.19.0 Command: /Library/Frameworks/R.framework/Resources/bin/R CMD build --keep-empty-dirs --no-resave-data metabolomicsWorkbenchR StartedAt: 2025-10-24 16:57:40 -0400 (Fri, 24 Oct 2025) EndedAt: 2025-10-24 16:58:01 -0400 (Fri, 24 Oct 2025) EllapsedTime: 21.3 seconds RetCode: 0 Status: OK PackageFile: metabolomicsWorkbenchR_1.19.0.tar.gz PackageFileSize: 2.398 MiB