Package: metabinR Version: 1.11.0 Command: /home/biocbuild/bbs-3.22-bioc/R/bin/R CMD build --keep-empty-dirs --no-resave-data --md5 metabinR StartedAt: 2025-10-24 18:41:59 -0400 (Fri, 24 Oct 2025) EndedAt: 2025-10-24 18:42:41 -0400 (Fri, 24 Oct 2025) EllapsedTime: 42.0 seconds RetCode: 0 Status: OK PackageFile: metabinR_1.11.0.tar.gz PackageFileSize: 4.397 MiB