Package: metabCombiner Version: 1.20.0 Command: /home/biocbuild/R/R/bin/R CMD INSTALL metabCombiner StartedAt: 2025-11-20 21:59:59 -0000 (Thu, 20 Nov 2025) EndedAt: 2025-11-20 22:00:22 -0000 (Thu, 20 Nov 2025) EllapsedTime: 23.5 seconds RetCode: 0 Status: OK