Package: metabCombiner Version: 1.20.0 Command: /home/biocbuild/R/R/bin/R CMD build --keep-empty-dirs --no-resave-data metabCombiner StartedAt: 2025-11-21 03:43:28 -0000 (Fri, 21 Nov 2025) EndedAt: 2025-11-21 03:44:11 -0000 (Fri, 21 Nov 2025) EllapsedTime: 43.0 seconds RetCode: 0 Status: OK PackageFile: metabCombiner_1.20.0.tar.gz PackageFileSize: 2.535 MiB