Package: metabCombiner Version: 1.19.0 Command: /Library/Frameworks/R.framework/Resources/bin/R CMD INSTALL metabCombiner StartedAt: 2025-10-24 15:22:19 -0400 (Fri, 24 Oct 2025) EndedAt: 2025-10-24 15:22:49 -0400 (Fri, 24 Oct 2025) EllapsedTime: 29.4 seconds RetCode: 0 Status: OK