Package: metaSeq Version: 1.49.0 Command: /home/biocbuild/bbs-3.22-bioc/R/bin/R CMD build --keep-empty-dirs --no-resave-data --md5 metaSeq StartedAt: 2025-10-24 18:43:40 -0400 (Fri, 24 Oct 2025) EndedAt: 2025-10-24 18:43:53 -0400 (Fri, 24 Oct 2025) EllapsedTime: 13.0 seconds RetCode: 0 Status: OK PackageFile: metaSeq_1.49.0.tar.gz PackageFileSize: 6.2 MiB