Package: metaMS Version: 1.45.0 Command: /home/biocbuild/bbs-3.22-bioc/R/bin/R CMD build --keep-empty-dirs --no-resave-data --md5 metaMS StartedAt: 2025-10-24 18:43:15 -0400 (Fri, 24 Oct 2025) EndedAt: 2025-10-24 18:44:22 -0400 (Fri, 24 Oct 2025) EllapsedTime: 67.1 seconds RetCode: 0 Status: OK PackageFile: metaMS_1.45.0.tar.gz PackageFileSize: 3.819 MiB