Package: metaCCA Version: 1.37.0 Command: /home/biocbuild/bbs-3.22-bioc/R/bin/R CMD INSTALL metaCCA StartedAt: 2025-10-24 15:12:31 -0400 (Fri, 24 Oct 2025) EndedAt: 2025-10-24 15:12:43 -0400 (Fri, 24 Oct 2025) EllapsedTime: 12.2 seconds RetCode: 0 Status: OK