Package: messina Version: 1.45.0 Command: /home/biocbuild/bbs-3.22-bioc/R/bin/R CMD build --keep-empty-dirs --no-resave-data --md5 messina StartedAt: 2025-10-24 18:41:49 -0400 (Fri, 24 Oct 2025) EndedAt: 2025-10-24 18:43:07 -0400 (Fri, 24 Oct 2025) EllapsedTime: 78.1 seconds RetCode: 0 Status: OK PackageFile: messina_1.45.0.tar.gz PackageFileSize: 298.6 KiB