Package: meshr Version: 2.15.0 Command: /Library/Frameworks/R.framework/Resources/bin/R CMD build --keep-empty-dirs --no-resave-data meshr StartedAt: 2025-10-28 17:37:37 -0400 (Tue, 28 Oct 2025) EndedAt: 2025-10-28 17:38:09 -0400 (Tue, 28 Oct 2025) EllapsedTime: 32.0 seconds RetCode: 0 Status: OK PackageFile: meshr_2.15.0.tar.gz PackageFileSize: 1002 KiB