Package: meshes Version: 1.36.0 Command: rm -rf meshes.buildbin-libdir && mkdir meshes.buildbin-libdir && /Users/biocbuild/BBS/utils/build-universal.sh meshes_1.36.0.tar.gz /Library/Frameworks/R.framework/Resources/bin/R meshes.buildbin-libdir StartedAt: 2025-10-31 23:12:58 -0400 (Fri, 31 Oct 2025) EndedAt: 2025-10-31 23:13:10 -0400 (Fri, 31 Oct 2025) EllapsedTime: 11.2 seconds RetCode: 0 Status: OK PackageFile: meshes_1.36.0.tgz PackageFileSize: 1.297 MiB