Package: megadepth Version: 1.20.0 Command: /home/biocbuild/bbs-3.22-bioc/R/bin/R CMD build --keep-empty-dirs --no-resave-data --md5 megadepth StartedAt: 2025-11-13 18:35:01 -0500 (Thu, 13 Nov 2025) EndedAt: 2025-11-13 18:35:35 -0500 (Thu, 13 Nov 2025) EllapsedTime: 33.0 seconds RetCode: 0 Status: OK PackageFile: megadepth_1.20.0.tar.gz PackageFileSize: 468.3 KiB