Package: mdp Version: 1.29.0 Command: /home/biocbuild/bbs-3.22-bioc/R/bin/R CMD INSTALL mdp StartedAt: 2025-10-27 15:10:21 -0400 (Mon, 27 Oct 2025) EndedAt: 2025-10-27 15:10:50 -0400 (Mon, 27 Oct 2025) EllapsedTime: 28.7 seconds RetCode: 0 Status: OK