Package: mdp Version: 1.29.0 Command: /home/biocbuild/bbs-3.22-bioc/R/bin/R CMD build --keep-empty-dirs --no-resave-data --md5 mdp StartedAt: 2025-10-27 18:30:50 -0400 (Mon, 27 Oct 2025) EndedAt: 2025-10-27 18:31:11 -0400 (Mon, 27 Oct 2025) EllapsedTime: 21.0 seconds RetCode: 0 Status: OK PackageFile: mdp_1.29.0.tar.gz PackageFileSize: 4.444 MiB