Package: mdp Version: 1.30.0 Command: /Library/Frameworks/R.framework/Resources/bin/R CMD build --keep-empty-dirs --no-resave-data mdp StartedAt: 2025-11-10 16:55:07 -0500 (Mon, 10 Nov 2025) EndedAt: 2025-11-10 16:55:16 -0500 (Mon, 10 Nov 2025) EllapsedTime: 9.1 seconds RetCode: 0 Status: OK PackageFile: mdp_1.30.0.tar.gz PackageFileSize: 4.401 MiB