Package: mdp Version: 1.30.0 Command: rm -rf mdp.buildbin-libdir && mkdir mdp.buildbin-libdir && /Users/biocbuild/BBS/utils/build-universal.sh mdp_1.30.0.tar.gz /Library/Frameworks/R.framework/Resources/bin/R mdp.buildbin-libdir StartedAt: 2025-11-10 23:25:47 -0500 (Mon, 10 Nov 2025) EndedAt: 2025-11-10 23:25:50 -0500 (Mon, 10 Nov 2025) EllapsedTime: 3.1 seconds RetCode: 0 Status: OK PackageFile: mdp_1.30.0.tgz PackageFileSize: 4.366 MiB