Package: mbkmeans Version: 1.26.0 Command: /Library/Frameworks/R.framework/Resources/bin/R CMD INSTALL mbkmeans StartedAt: 2025-11-10 15:12:06 -0500 (Mon, 10 Nov 2025) EndedAt: 2025-11-10 15:12:22 -0500 (Mon, 10 Nov 2025) EllapsedTime: 15.9 seconds RetCode: 0 Status: OK