Package: mbQTL Version: 1.9.0 Command: /home/biocbuild/bbs-3.22-bioc/R/bin/R CMD build --keep-empty-dirs --no-resave-data --md5 mbQTL StartedAt: 2025-10-24 18:39:55 -0400 (Fri, 24 Oct 2025) EndedAt: 2025-10-24 18:41:02 -0400 (Fri, 24 Oct 2025) EllapsedTime: 67.1 seconds RetCode: 0 Status: OK PackageFile: mbQTL_1.9.0.tar.gz PackageFileSize: 1.776 MiB