Package: matchBox Version: 1.52.0 Command: /home/biocbuild/bbs-3.22-bioc/R/bin/R CMD INSTALL matchBox StartedAt: 2025-11-03 15:01:59 -0500 (Mon, 03 Nov 2025) EndedAt: 2025-11-03 15:02:12 -0500 (Mon, 03 Nov 2025) EllapsedTime: 12.5 seconds RetCode: 0 Status: OK