Package: matchBox Version: 1.52.0 Command: /home/biocbuild/bbs-3.22-bioc/R/bin/R CMD build --keep-empty-dirs --no-resave-data --md5 matchBox StartedAt: 2025-11-02 18:43:53 -0500 (Sun, 02 Nov 2025) EndedAt: 2025-11-02 18:44:00 -0500 (Sun, 02 Nov 2025) EllapsedTime: 7.0 seconds RetCode: 0 Status: OK PackageFile: matchBox_1.52.0.tar.gz PackageFileSize: 606 KiB