Package: mastR Version: 1.9.1 Command: /home/biocbuild/bbs-3.22-bioc/R/bin/R CMD INSTALL mastR StartedAt: 2025-10-27 15:36:01 -0400 (Mon, 27 Oct 2025) EndedAt: 2025-10-27 15:36:43 -0400 (Mon, 27 Oct 2025) EllapsedTime: 42.4 seconds RetCode: 0 Status: OK