Package: massiR Version: 1.45.0 Command: /home/biocbuild/bbs-3.22-bioc/R/bin/R CMD build --keep-empty-dirs --no-resave-data --md5 massiR StartedAt: 2025-10-24 18:37:48 -0400 (Fri, 24 Oct 2025) EndedAt: 2025-10-24 18:37:55 -0400 (Fri, 24 Oct 2025) EllapsedTime: 7.0 seconds RetCode: 0 Status: OK PackageFile: massiR_1.45.0.tar.gz PackageFileSize: 1.116 MiB