Package: maskBAD Version: 1.53.0 Command: /home/biocbuild/bbs-3.22-bioc/R/bin/R CMD INSTALL maskBAD StartedAt: 2025-10-24 16:08:14 -0400 (Fri, 24 Oct 2025) EndedAt: 2025-10-24 16:08:24 -0400 (Fri, 24 Oct 2025) EllapsedTime: 10.4 seconds RetCode: 0 Status: OK