Package: martini Version: 1.30.0 Command: /home/biocbuild/bbs-3.22-bioc/R/bin/R CMD build --keep-empty-dirs --no-resave-data --md5 martini StartedAt: 2025-10-31 18:37:25 -0400 (Fri, 31 Oct 2025) EndedAt: 2025-10-31 18:37:49 -0400 (Fri, 31 Oct 2025) EllapsedTime: 24.0 seconds RetCode: 0 Status: OK PackageFile: martini_1.30.0.tar.gz PackageFileSize: 2.999 MiB