Package: marr Version: 1.19.0 Command: /home/biocbuild/bbs-3.22-bioc/R/bin/R CMD INSTALL marr StartedAt: 2025-10-24 15:30:31 -0400 (Fri, 24 Oct 2025) EndedAt: 2025-10-24 15:31:02 -0400 (Fri, 24 Oct 2025) EllapsedTime: 31.6 seconds RetCode: 0 Status: OK