Package: markeR Version: 1.0.0 Command: /home/biocbuild/bbs-3.22-bioc/R/bin/R CMD INSTALL markeR StartedAt: 2025-10-30 15:14:24 -0400 (Thu, 30 Oct 2025) EndedAt: 2025-10-30 15:14:44 -0400 (Thu, 30 Oct 2025) EllapsedTime: 19.7 seconds RetCode: 0 Status: OK