Package: markeR Version: 1.0.0 Command: /home/biocbuild/bbs-3.22-bioc/R/bin/R CMD build --keep-empty-dirs --no-resave-data --md5 markeR StartedAt: 2025-10-30 18:26:58 -0400 (Thu, 30 Oct 2025) EndedAt: 2025-10-30 18:31:08 -0400 (Thu, 30 Oct 2025) EllapsedTime: 250.2 seconds RetCode: 0 Status: OK PackageFile: markeR_1.0.0.tar.gz PackageFileSize: 3.815 MiB