Package: makecdfenv Version: 1.86.0 Command: /Library/Frameworks/R.framework/Resources/bin/R CMD INSTALL makecdfenv StartedAt: 2025-11-03 15:19:31 -0500 (Mon, 03 Nov 2025) EndedAt: 2025-11-03 15:19:47 -0500 (Mon, 03 Nov 2025) EllapsedTime: 15.8 seconds RetCode: 0 Status: OK