Package: makecdfenv Version: 1.86.0 Command: /Library/Frameworks/R.framework/Resources/bin/R CMD build --keep-empty-dirs --no-resave-data makecdfenv StartedAt: 2025-11-02 17:38:45 -0500 (Sun, 02 Nov 2025) EndedAt: 2025-11-02 17:39:07 -0500 (Sun, 02 Nov 2025) EllapsedTime: 21.6 seconds RetCode: 0 Status: OK PackageFile: makecdfenv_1.86.0.tar.gz PackageFileSize: 3.258 MiB