Package: makecdfenv Version: 1.85.0 Command: /Library/Frameworks/R.framework/Resources/bin/R CMD INSTALL makecdfenv StartedAt: 2025-10-24 15:09:49 -0400 (Fri, 24 Oct 2025) EndedAt: 2025-10-24 15:09:54 -0400 (Fri, 24 Oct 2025) EllapsedTime: 4.3 seconds RetCode: 0 Status: OK