Package: makecdfenv Version: 1.85.0 Command: /Library/Frameworks/R.framework/Resources/bin/R CMD build --keep-empty-dirs --no-resave-data makecdfenv StartedAt: 2025-10-24 16:54:19 -0400 (Fri, 24 Oct 2025) EndedAt: 2025-10-24 16:54:27 -0400 (Fri, 24 Oct 2025) EllapsedTime: 7.1 seconds RetCode: 0 Status: OK PackageFile: makecdfenv_1.85.0.tar.gz PackageFileSize: 3.258 MiB