Package: makecdfenv Version: 1.85.0 Command: rm -rf makecdfenv.buildbin-libdir && mkdir makecdfenv.buildbin-libdir && /Users/biocbuild/BBS/utils/build-universal.sh makecdfenv_1.85.0.tar.gz /Library/Frameworks/R.framework/Resources/bin/R makecdfenv.buildbin-libdir StartedAt: 2025-10-24 23:08:16 -0400 (Fri, 24 Oct 2025) EndedAt: 2025-10-24 23:08:21 -0400 (Fri, 24 Oct 2025) EllapsedTime: 5.1 seconds RetCode: 0 Status: OK PackageFile: makecdfenv_1.85.0.tgz PackageFileSize: 3.424 MiB