Package: magrene Version: 1.11.0 Command: /home/biocbuild/bbs-3.22-bioc/R/bin/R CMD build --keep-empty-dirs --no-resave-data --md5 magrene StartedAt: 2025-10-24 18:35:23 -0400 (Fri, 24 Oct 2025) EndedAt: 2025-10-24 18:36:00 -0400 (Fri, 24 Oct 2025) EllapsedTime: 37.0 seconds RetCode: 0 Status: OK PackageFile: magrene_1.11.0.tar.gz PackageFileSize: 2.257 MiB